BEGIN:VCALENDAR
VERSION:2.0
PRODID:-//The Island RI - ECPv6.15.20//NONSGML v1.0//EN
CALSCALE:GREGORIAN
METHOD:PUBLISH
X-WR-CALNAME:The Island RI
X-ORIGINAL-URL:https://theislandri.com
X-WR-CALDESC:Events for The Island RI
REFRESH-INTERVAL;VALUE=DURATION:PT1H
X-Robots-Tag:noindex
X-PUBLISHED-TTL:PT1H
BEGIN:VTIMEZONE
TZID:UTC
BEGIN:STANDARD
TZOFFSETFROM:+0000
TZOFFSETTO:+0000
TZNAME:UTC
DTSTART:20250101T000000
END:STANDARD
END:VTIMEZONE
BEGIN:VEVENT
DTSTART;TZID=UTC:20260523T190000
DTEND;TZID=UTC:20260523T220000
DTSTAMP:20260423T094609
CREATED:20260305T183128Z
LAST-MODIFIED:20260305T183318Z
UID:1432-1779562800-1779573600@theislandri.com
SUMMARY:Just Wingin It
DESCRIPTION:Come by Saturday\, May 23rd starting at 7 pm for a crowd favorite\, Just Wingin It\, doing their first Saturday performance at The Island! Outside bar will be open at 5 pm.
URL:https://theislandri.com/event/just-wingin-it/
LOCATION:The Island\, 1600 Victory Hwy\, North Smithfield\, RI\, 02896\, United States
ATTACH;FMTTYPE=image/jpeg:https://theislandri.com/wp-content/uploads/2025/07/just-wingin-it.jpg
ORGANIZER;CN="The Island":MAILTO:greg@theislandri.com
END:VEVENT
BEGIN:VEVENT
DTSTART;TZID=UTC:20260725T190000
DTEND;TZID=UTC:20260725T220000
DTSTAMP:20260423T094609
CREATED:20260305T193811Z
LAST-MODIFIED:20260305T193811Z
UID:1490-1785006000-1785016800@theislandri.com
SUMMARY:Just Wingin It
DESCRIPTION:Come by Saturday\, July 25th starting at 7 pm for a crowd favorite\, Just Wingin It. Outside bar will be open at 12 pm.
URL:https://theislandri.com/event/just-wingin-it-2/
LOCATION:The Island\, 1600 Victory Hwy\, North Smithfield\, RI\, 02896\, United States
CATEGORIES:Band
ATTACH;FMTTYPE=image/jpeg:https://theislandri.com/wp-content/uploads/2025/07/just-wingin-it.jpg
ORGANIZER;CN="The Island":MAILTO:greg@theislandri.com
END:VEVENT
END:VCALENDAR