BEGIN:VCALENDAR
VERSION:2.0
PRODID:-//The Island RI - ECPv6.15.20//NONSGML v1.0//EN
CALSCALE:GREGORIAN
METHOD:PUBLISH
X-ORIGINAL-URL:https://theislandri.com
X-WR-CALDESC:Events for The Island RI
REFRESH-INTERVAL;VALUE=DURATION:PT1H
X-Robots-Tag:noindex
X-PUBLISHED-TTL:PT1H
BEGIN:VTIMEZONE
TZID:UTC
BEGIN:STANDARD
TZOFFSETFROM:+0000
TZOFFSETTO:+0000
TZNAME:UTC
DTSTART:20250101T000000
END:STANDARD
END:VTIMEZONE
BEGIN:VEVENT
DTSTART;TZID=UTC:20260611T180000
DTEND;TZID=UTC:20260611T210000
DTSTAMP:20260423T095833
CREATED:20250911T115344Z
LAST-MODIFIED:20260305T164354Z
UID:1235-1781200800-1781211600@theislandri.com
SUMMARY:Brady Wells Acoustic
DESCRIPTION:The Island welcomes back Brady Wells as an acoustic duo playing a mix of country and classic hits for a relaxing Thursday evening performance.
URL:https://theislandri.com/event/brady-wells-acoustic/
LOCATION:The Island\, 1600 Victory Hwy\, North Smithfield\, RI\, 02896\, United States
CATEGORIES:Acoustic,Band
ATTACH;FMTTYPE=image/jpeg:https://theislandri.com/wp-content/uploads/2025/09/Brady-Wells-Acoustic.jpg
ORGANIZER;CN="The Island":MAILTO:greg@theislandri.com
END:VEVENT
BEGIN:VEVENT
DTSTART;TZID=UTC:20260828T190000
DTEND;TZID=UTC:20260828T220000
DTSTAMP:20260423T095833
CREATED:20260305T195810Z
LAST-MODIFIED:20260305T195810Z
UID:1510-1787943600-1787954400@theislandri.com
SUMMARY:Northeast Groove
DESCRIPTION:The Northeast Groove is a great local band that plays it all. Rock\, Country\, Funk and Dance! Come groove at The Island\, Northeast style!
URL:https://theislandri.com/event/northeast-groove-2/
LOCATION:The Island\, 1600 Victory Hwy\, North Smithfield\, RI\, 02896\, United States
CATEGORIES:Band
ATTACH;FMTTYPE=image/jpeg:https://theislandri.com/wp-content/uploads/2024/02/ne-groove.jpg
ORGANIZER;CN="The Island":MAILTO:greg@theislandri.com
END:VEVENT
BEGIN:VEVENT
DTSTART;TZID=UTC:20260905T190000
DTEND;TZID=UTC:20260905T220000
DTSTAMP:20260423T095833
CREATED:20260305T200605Z
LAST-MODIFIED:20260305T200605Z
UID:1514-1788634800-1788645600@theislandri.com
SUMMARY:Brad Perry and Down to Earth Band
DESCRIPTION:Brad Perry is a singer songwriter from Burrillville a small town in Rhode Island. Brad formed Down to Earth many years ago with drummer Steve LeClair\, together with Rich Bedard (badd and keyboards) and Glen Gervais (guitar/vocals) they’ve been the town most popular band. Playing hits songs from the 70’s to the 2000’s there is something for everyone and there;s alway a full dance floor. His songwriting philosophy is to write simple songs with great lyrics then record them live using minimal electronics.
URL:https://theislandri.com/event/brad-perry-and-down-to-earth-band-2/
LOCATION:The Island\, 1600 Victory Hwy\, North Smithfield\, RI\, 02896\, United States
CATEGORIES:Band
ATTACH;FMTTYPE=image/jpeg:https://theislandri.com/wp-content/uploads/2024/02/798A6B91-0A5F-4D48-AE3D-26FB25C6720B.jpeg
ORGANIZER;CN="The Island":MAILTO:greg@theislandri.com
END:VEVENT
BEGIN:VEVENT
DTSTART;TZID=UTC:20260911T190000
DTEND;TZID=UTC:20260911T220000
DTSTAMP:20260423T095833
CREATED:20260305T201904Z
LAST-MODIFIED:20260305T201904Z
UID:1518-1789153200-1789164000@theislandri.com
SUMMARY:Riff Raff
DESCRIPTION:RI based high energy party band covering Rock from the 60s to present\, Top 40\, Dance and Rock.
URL:https://theislandri.com/event/riff-raff-2/
LOCATION:The Island\, 1600 Victory Hwy\, North Smithfield\, RI\, 02896\, United States
CATEGORIES:Band
ATTACH;FMTTYPE=image/jpeg:https://theislandri.com/wp-content/uploads/2024/02/riff-raff.jpg
ORGANIZER;CN="The Island":MAILTO:greg@theislandri.com
END:VEVENT
BEGIN:VEVENT
DTSTART;TZID=UTC:20260919T190000
DTEND;TZID=UTC:20260919T220000
DTSTAMP:20260423T095833
CREATED:20260305T202059Z
LAST-MODIFIED:20260305T202059Z
UID:1520-1789844400-1789855200@theislandri.com
SUMMARY:Black Plain Road
DESCRIPTION:Come catch Black Plain Road’s first show back at The Island for one of the last summer performances on September 19th. \nBlack Plain Road is a classic rock band made up of six talented musicians…and a bass player.
URL:https://theislandri.com/event/black-plain-road-4/
LOCATION:The Island\, 1600 Victory Hwy\, North Smithfield\, RI\, 02896\, United States
CATEGORIES:Band
ATTACH;FMTTYPE=image/jpeg:https://theislandri.com/wp-content/uploads/2024/02/black-plain-road.jpg
ORGANIZER;CN="The Island":MAILTO:greg@theislandri.com
END:VEVENT
END:VCALENDAR