BEGIN:VCALENDAR
VERSION:2.0
PRODID:-//The Island RI - ECPv6.15.20//NONSGML v1.0//EN
CALSCALE:GREGORIAN
METHOD:PUBLISH
X-ORIGINAL-URL:https://theislandri.com
X-WR-CALDESC:Events for The Island RI
REFRESH-INTERVAL;VALUE=DURATION:PT1H
X-Robots-Tag:noindex
X-PUBLISHED-TTL:PT1H
BEGIN:VTIMEZONE
TZID:UTC
BEGIN:STANDARD
TZOFFSETFROM:+0000
TZOFFSETTO:+0000
TZNAME:UTC
DTSTART:20250101T000000
END:STANDARD
END:VTIMEZONE
BEGIN:VEVENT
DTSTART;TZID=UTC:20260724T190000
DTEND;TZID=UTC:20260724T220000
DTSTAMP:20260423T171608
CREATED:20260305T193351Z
LAST-MODIFIED:20260305T193351Z
UID:1486-1784919600-1784930400@theislandri.com
SUMMARY:Porch Rockers
DESCRIPTION:The Island is very excited to welcome Willy Wayz with the Porch Rockers back for the first time in 2026! They play everything from classics to 90s (DMB\, STP\, Pearl Jam\, etc.) to today’s hits with a country set mixed in.
URL:https://theislandri.com/event/porch-rockers/
LOCATION:The Island\, 1600 Victory Hwy\, North Smithfield\, RI\, 02896\, United States
CATEGORIES:Band
ATTACH;FMTTYPE=image/jpeg:https://theislandri.com/wp-content/uploads/2025/09/porch-rockers.jpg
ORGANIZER;CN="The Island":MAILTO:greg@theislandri.com
END:VEVENT
END:VCALENDAR