BEGIN:VCALENDAR
VERSION:2.0
PRODID:-//The Island RI - ECPv6.15.20//NONSGML v1.0//EN
CALSCALE:GREGORIAN
METHOD:PUBLISH
X-ORIGINAL-URL:https://theislandri.com
X-WR-CALDESC:Events for The Island RI
REFRESH-INTERVAL;VALUE=DURATION:PT1H
X-Robots-Tag:noindex
X-PUBLISHED-TTL:PT1H
BEGIN:VTIMEZONE
TZID:UTC
BEGIN:STANDARD
TZOFFSETFROM:+0000
TZOFFSETTO:+0000
TZNAME:UTC
DTSTART:20250101T000000
END:STANDARD
END:VTIMEZONE
BEGIN:VEVENT
DTSTART;TZID=UTC:20260525T150000
DTEND;TZID=UTC:20260525T190000
DTSTAMP:20260423T172558
CREATED:20250522T185924Z
LAST-MODIFIED:20260305T180258Z
UID:1111-1779721200-1779735600@theislandri.com
SUMMARY:Sean Ryan Acoustic
DESCRIPTION:Come by The Island this Memorial Day from 3 – 6 pm for acoustic music with Sean Ryan who plays everything from oldies to modern sounds. Outdoor bar opens at 1 pm.
URL:https://theislandri.com/event/sean-ryan-acoustic/
LOCATION:The Island\, 1600 Victory Hwy\, North Smithfield\, RI\, 02896\, United States
CATEGORIES:Acoustic
ATTACH;FMTTYPE=image/jpeg:https://theislandri.com/wp-content/uploads/2025/05/Sean-Ryan.jpg
ORGANIZER;CN="The Island":MAILTO:greg@theislandri.com
END:VEVENT
END:VCALENDAR