BEGIN:VCALENDAR
VERSION:2.0
PRODID:-//The Island RI - ECPv6.15.20//NONSGML v1.0//EN
CALSCALE:GREGORIAN
METHOD:PUBLISH
X-ORIGINAL-URL:https://theislandri.com
X-WR-CALDESC:Events for The Island RI
REFRESH-INTERVAL;VALUE=DURATION:PT1H
X-Robots-Tag:noindex
X-PUBLISHED-TTL:PT1H
BEGIN:VTIMEZONE
TZID:UTC
BEGIN:STANDARD
TZOFFSETFROM:+0000
TZOFFSETTO:+0000
TZNAME:UTC
DTSTART:20250101T000000
END:STANDARD
END:VTIMEZONE
BEGIN:VEVENT
DTSTART;TZID=UTC:20260903T180000
DTEND;TZID=UTC:20260903T210000
DTSTAMP:20260423T183638
CREATED:20260305T200031Z
LAST-MODIFIED:20260305T200031Z
UID:1512-1788458400-1788469200@theislandri.com
SUMMARY:Billy Leetch Acoustic
DESCRIPTION:Relax by the water on Thursdays with Billy Leetch playing classic acoustic hits
URL:https://theislandri.com/event/billy-leetch-acoustic-2/
LOCATION:The Island\, 1600 Victory Hwy\, North Smithfield\, RI\, 02896\, United States
CATEGORIES:Acoustic
ATTACH;FMTTYPE=image/jpeg:https://theislandri.com/wp-content/uploads/2025/05/Billy-Leetch.jpg
ORGANIZER;CN="The Island":MAILTO:greg@theislandri.com
END:VEVENT
BEGIN:VEVENT
DTSTART;TZID=UTC:20260910T180000
DTEND;TZID=UTC:20260910T210000
DTSTAMP:20260423T183638
CREATED:20260305T201624Z
LAST-MODIFIED:20260305T201624Z
UID:1516-1789063200-1789074000@theislandri.com
SUMMARY:Lacey Cheryl
DESCRIPTION:The Island is excited to have Lacey Cheryl playing for a Thursday evening performance! If you haven’t heard Lacey play solo acoustic yet you won’t want to miss this.
URL:https://theislandri.com/event/lacey-cheryl-3/
LOCATION:The Island\, 1600 Victory Hwy\, North Smithfield\, RI\, 02896\, United States
CATEGORIES:Acoustic
ATTACH;FMTTYPE=image/jpeg:https://theislandri.com/wp-content/uploads/2025/07/lacey-cheryl.jpg
ORGANIZER;CN="The Island":MAILTO:greg@theislandri.com
END:VEVENT
END:VCALENDAR