BEGIN:VCALENDAR
VERSION:2.0
PRODID:-//The Island RI - ECPv6.15.20//NONSGML v1.0//EN
CALSCALE:GREGORIAN
METHOD:PUBLISH
X-ORIGINAL-URL:https://theislandri.com
X-WR-CALDESC:Events for The Island RI
REFRESH-INTERVAL;VALUE=DURATION:PT1H
X-Robots-Tag:noindex
X-PUBLISHED-TTL:PT1H
BEGIN:VTIMEZONE
TZID:UTC
BEGIN:STANDARD
TZOFFSETFROM:+0000
TZOFFSETTO:+0000
TZNAME:UTC
DTSTART:20250101T000000
END:STANDARD
END:VTIMEZONE
BEGIN:VEVENT
DTSTART;TZID=UTC:20260813T180000
DTEND;TZID=UTC:20260813T210000
DTSTAMP:20260423T183850
CREATED:20260305T192351Z
LAST-MODIFIED:20260305T192351Z
UID:1482-1786644000-1786654800@theislandri.com
SUMMARY:Lizzie & Jeremy Acoustic
DESCRIPTION:The Island is excited to welcome Lizzie and welcome back Jeremy for an acoustic performance covering a variety of music from today to yesterday’s\, from singalongs to medleys and much much more.
URL:https://theislandri.com/event/lizzie-jeremy-acoustic-3/
LOCATION:The Island\, 1600 Victory Hwy\, North Smithfield\, RI\, 02896\, United States
CATEGORIES:Acoustic,Band
ATTACH;FMTTYPE=image/jpeg:https://theislandri.com/wp-content/uploads/2025/09/IMG_6276.jpg
ORGANIZER;CN="The Island":MAILTO:greg@theislandri.com
END:VEVENT
END:VCALENDAR